BEGIN:VCALENDAR
VERSION:2.0
PRODID:-//Handballkreis Gütersloh e.V. - ECPv6.15.20//NONSGML v1.0//EN
CALSCALE:GREGORIAN
METHOD:PUBLISH
X-WR-CALNAME:Handballkreis Gütersloh e.V.
X-ORIGINAL-URL:https://www.handballkreis-guetersloh.de
X-WR-CALDESC:Veranstaltungen für Handballkreis Gütersloh e.V.
REFRESH-INTERVAL;VALUE=DURATION:PT1H
X-Robots-Tag:noindex
X-PUBLISHED-TTL:PT1H
BEGIN:VTIMEZONE
TZID:Europe/Berlin
BEGIN:DAYLIGHT
TZOFFSETFROM:+0100
TZOFFSETTO:+0200
TZNAME:CEST
DTSTART:20250330T010000
END:DAYLIGHT
BEGIN:STANDARD
TZOFFSETFROM:+0200
TZOFFSETTO:+0100
TZNAME:CET
DTSTART:20251026T010000
END:STANDARD
BEGIN:DAYLIGHT
TZOFFSETFROM:+0100
TZOFFSETTO:+0200
TZNAME:CEST
DTSTART:20260329T010000
END:DAYLIGHT
BEGIN:STANDARD
TZOFFSETFROM:+0200
TZOFFSETTO:+0100
TZNAME:CET
DTSTART:20261025T010000
END:STANDARD
BEGIN:DAYLIGHT
TZOFFSETFROM:+0100
TZOFFSETTO:+0200
TZNAME:CEST
DTSTART:20270328T010000
END:DAYLIGHT
BEGIN:STANDARD
TZOFFSETFROM:+0200
TZOFFSETTO:+0100
TZNAME:CET
DTSTART:20271031T010000
END:STANDARD
END:VTIMEZONE
BEGIN:VEVENT
DTSTART;TZID=Europe/Berlin:20260306T190000
DTEND;TZID=Europe/Berlin:20260306T220000
DTSTAMP:20260421T173856
CREATED:20250110T221754Z
LAST-MODIFIED:20250110T222042Z
UID:24579-1772823600-1772834400@www.handballkreis-guetersloh.de
SUMMARY:3. Schiedsrichterlehrabend für die Saison 2025/26
DESCRIPTION:Hier könnt Ihr Euch anmelden: \nhttps://hw.it4sport.de/index.php?phoenix=phoenixbase.seminar.pages.SeminarSinglePage&uID=55CE6CC1-3A72-4845-8FDF-72652913B7AD \n  \n  \n  \n  \n 
URL:https://www.handballkreis-guetersloh.de/event/3-schiedsrichterlehrabend-fuer-die-saison-2021-22-inkl-leistungskaderlehrgang-2-2-2-2/
LOCATION:– Online-Schulung –
CATEGORIES:Schiedsrichter
END:VEVENT
BEGIN:VEVENT
DTSTART;TZID=Europe/Berlin:20260319T180000
DTEND;TZID=Europe/Berlin:20260319T210000
DTSTAMP:20260421T173856
CREATED:20260126T174502Z
LAST-MODIFIED:20260126T174502Z
UID:26461-1773943200-1773954000@www.handballkreis-guetersloh.de
SUMMARY:Kreistag 2026 des Handballkreises Gütersloh e.V.
DESCRIPTION:Einladung_Kreistag_2026 \nAnmeldung zum Kreistag erforderlich über Phönix \nhttps://hw.it4sport.de/seminar/show#detail/1D6BF201-8A0B-4353-8FD6-A32DCEA16340
URL:https://www.handballkreis-guetersloh.de/event/kreistag-2026-des-handballkreises-guetersloh-e-v/
LOCATION:Gütersloher Brauhaus
CATEGORIES:Termine,Vereine,Vorstand
END:VEVENT
END:VCALENDAR