BEGIN:VCALENDAR
VERSION:2.0
PRODID:-//Handballkreis Gütersloh e.V. - ECPv6.15.20//NONSGML v1.0//EN
CALSCALE:GREGORIAN
METHOD:PUBLISH
X-WR-CALNAME:Handballkreis Gütersloh e.V.
X-ORIGINAL-URL:https://www.handballkreis-guetersloh.de
X-WR-CALDESC:Veranstaltungen für Handballkreis Gütersloh e.V.
REFRESH-INTERVAL;VALUE=DURATION:PT1H
X-Robots-Tag:noindex
X-PUBLISHED-TTL:PT1H
BEGIN:VTIMEZONE
TZID:Europe/Berlin
BEGIN:DAYLIGHT
TZOFFSETFROM:+0100
TZOFFSETTO:+0200
TZNAME:CEST
DTSTART:20240331T010000
END:DAYLIGHT
BEGIN:STANDARD
TZOFFSETFROM:+0200
TZOFFSETTO:+0100
TZNAME:CET
DTSTART:20241027T010000
END:STANDARD
BEGIN:DAYLIGHT
TZOFFSETFROM:+0100
TZOFFSETTO:+0200
TZNAME:CEST
DTSTART:20250330T010000
END:DAYLIGHT
BEGIN:STANDARD
TZOFFSETFROM:+0200
TZOFFSETTO:+0100
TZNAME:CET
DTSTART:20251026T010000
END:STANDARD
BEGIN:DAYLIGHT
TZOFFSETFROM:+0100
TZOFFSETTO:+0200
TZNAME:CEST
DTSTART:20260329T010000
END:DAYLIGHT
BEGIN:STANDARD
TZOFFSETFROM:+0200
TZOFFSETTO:+0100
TZNAME:CET
DTSTART:20261025T010000
END:STANDARD
BEGIN:DAYLIGHT
TZOFFSETFROM:+0100
TZOFFSETTO:+0200
TZNAME:CEST
DTSTART:20270328T010000
END:DAYLIGHT
BEGIN:STANDARD
TZOFFSETFROM:+0200
TZOFFSETTO:+0100
TZNAME:CET
DTSTART:20271031T010000
END:STANDARD
END:VTIMEZONE
BEGIN:VEVENT
DTSTART;TZID=Europe/Berlin:20260419T140000
DTEND;TZID=Europe/Berlin:20260419T160000
DTSTAMP:20260421T145121
CREATED:20260324T001212Z
LAST-MODIFIED:20260324T001212Z
UID:26702-1776607200-1776614400@www.handballkreis-guetersloh.de
SUMMARY:Zeitnehmerinnen und Zeitnehmer zur erstmaligen Erlangung der HVW-ZS Lizenz
DESCRIPTION:Anmeldeschluss: 17.04.2026\n\n\n\n\nAusbildung für den Erwerb der Zeitnehmerlizenz.\n\nBedingung zur Teilnahme: Die Erlangung einer HVW-ZS Lizenz erfordert ein Mindestalter von 16 Jahren zum Zeitpunkt der Anmeldung.\n\nDie Teilnahme wird mit einer Lizenz bestätigt\, die in „H4A-App“ angezeigt wird und zur Tätigkeit als Zeitnehmer und Sekretär am Zeitnehmertisch zugelassen werden.\n\nOnline-Seminar über Zoom\, es erfolgt keine Präsenz-Veranstaltung.\n\n\n  \n\n\n\n\nDownloads : Ausschreibung Zeitnehmerlehrgang
URL:https://www.handballkreis-guetersloh.de/event/lehrgang_zeitnehmer_2025_04-2/
LOCATION:– Online-Schulung –
CATEGORIES:Aus- und Fortbildung
END:VEVENT
BEGIN:VEVENT
DTSTART;TZID=Europe/Berlin:20260419T100000
DTEND;TZID=Europe/Berlin:20260419T120000
DTSTAMP:20260421T145121
CREATED:20260324T001311Z
LAST-MODIFIED:20260324T001311Z
UID:26699-1776592800-1776600000@www.handballkreis-guetersloh.de
SUMMARY:Zeitnehmerinnen und Zeitnehmer zur erstmaligen Erlangung der HVW-ZS Lizenz
DESCRIPTION:Anmeldeschluss: 17.04.2026\n\n\n\n\nAusbildung für den Erwerb der Zeitnehmerlizenz.\n\nBedingung zur Teilnahme: Die Erlangung einer HVW-ZS Lizenz erfordert ein Mindestalter von 16 Jahren zum Zeitpunkt der Anmeldung.\n\nDie Teilnahme wird mit einer Lizenz bestätigt\, die in „H4A-App“ angezeigt wird und zur Tätigkeit als Zeitnehmer und Sekretär am Zeitnehmertisch zugelassen werden.\n\nOnline-Seminar über Zoom\, es erfolgt keine Präsenz-Veranstaltung.\n\n\n  \n\n\n\n\nDownloads : Ausschreibung Zeitnehmerlehrgang
URL:https://www.handballkreis-guetersloh.de/event/lehrgang_zeitnehmer_2025_04/
LOCATION:– Online-Schulung –
CATEGORIES:Aus- und Fortbildung
END:VEVENT
BEGIN:VEVENT
DTSTART;TZID=Europe/Berlin:20260319T180000
DTEND;TZID=Europe/Berlin:20260319T210000
DTSTAMP:20260421T145121
CREATED:20260126T174502Z
LAST-MODIFIED:20260126T174502Z
UID:26461-1773943200-1773954000@www.handballkreis-guetersloh.de
SUMMARY:Kreistag 2026 des Handballkreises Gütersloh e.V.
DESCRIPTION:Einladung_Kreistag_2026 \nAnmeldung zum Kreistag erforderlich über Phönix \nhttps://hw.it4sport.de/seminar/show#detail/1D6BF201-8A0B-4353-8FD6-A32DCEA16340
URL:https://www.handballkreis-guetersloh.de/event/kreistag-2026-des-handballkreises-guetersloh-e-v/
LOCATION:Gütersloher Brauhaus
CATEGORIES:Termine,Vereine,Vorstand
END:VEVENT
BEGIN:VEVENT
DTSTART;TZID=Europe/Berlin:20260306T190000
DTEND;TZID=Europe/Berlin:20260306T220000
DTSTAMP:20260421T145121
CREATED:20250110T221754Z
LAST-MODIFIED:20250110T222042Z
UID:24579-1772823600-1772834400@www.handballkreis-guetersloh.de
SUMMARY:3. Schiedsrichterlehrabend für die Saison 2025/26
DESCRIPTION:Hier könnt Ihr Euch anmelden: \nhttps://hw.it4sport.de/index.php?phoenix=phoenixbase.seminar.pages.SeminarSinglePage&uID=55CE6CC1-3A72-4845-8FDF-72652913B7AD \n  \n  \n  \n  \n 
URL:https://www.handballkreis-guetersloh.de/event/3-schiedsrichterlehrabend-fuer-die-saison-2021-22-inkl-leistungskaderlehrgang-2-2-2-2/
LOCATION:– Online-Schulung –
CATEGORIES:Schiedsrichter
END:VEVENT
BEGIN:VEVENT
DTSTART;TZID=Europe/Berlin:20260105T190000
DTEND;TZID=Europe/Berlin:20260213T220000
DTSTAMP:20260421T145121
CREATED:20251020T183621Z
LAST-MODIFIED:20251020T185319Z
UID:26206-1767639600-1771020000@www.handballkreis-guetersloh.de
SUMMARY:Schiedsrichter-Anwärterlehrgang vom 05.01. bis 13.02.2026
DESCRIPTION:
URL:https://www.handballkreis-guetersloh.de/event/schiedsrichter-anwaerterlehrgang-2-2-3-2-2/
LOCATION:– Online-Schulung –
CATEGORIES:Aus- und Fortbildung,Schiedsrichter,Termine,Vereine
END:VEVENT
BEGIN:VEVENT
DTSTART;VALUE=DATE:20251219
DTEND;VALUE=DATE:20251220
DTSTAMP:20260421T145121
CREATED:20251020T183406Z
LAST-MODIFIED:20251020T183406Z
UID:26204-1766102400-1766188799@www.handballkreis-guetersloh.de
SUMMARY:Anmeldeschluss 19.12.2025 zum Schiedsrichter-Anwärterlehrgang 2026
DESCRIPTION:
URL:https://www.handballkreis-guetersloh.de/event/anmeldeschluss-zum-schiedsrichter-anwaerterlehrgang-2-2-3-2-2/
CATEGORIES:Aus- und Fortbildung,Schiedsrichter,Termine,Vereine
END:VEVENT
BEGIN:VEVENT
DTSTART;TZID=Europe/Berlin:20251212T190000
DTEND;TZID=Europe/Berlin:20251212T213000
DTSTAMP:20260421T145121
CREATED:20250916T131915Z
LAST-MODIFIED:20250916T131915Z
UID:26112-1765566000-1765575000@www.handballkreis-guetersloh.de
SUMMARY:Kreisjugendtag 2025
DESCRIPTION:Einladung zum Kreisjugendtag
URL:https://www.handballkreis-guetersloh.de/event/kreisjugendtag-2025/
LOCATION:Haus Hagemeyer-Singenstroth\, Bahnhofstraße 81\, Borgholzhausen\, 33829
CATEGORIES:Jugend,Termine,Vorstand
END:VEVENT
BEGIN:VEVENT
DTSTART;TZID=Europe/Berlin:20251205T190000
DTEND;TZID=Europe/Berlin:20251205T220000
DTSTAMP:20260421T145121
CREATED:20250110T221249Z
LAST-MODIFIED:20250110T221249Z
UID:24577-1764961200-1764972000@www.handballkreis-guetersloh.de
SUMMARY:Schiedsrichter-Weihnachtsfeier und 2. Lehrabend für die Saison 2025/26
DESCRIPTION:Am Freitag\, den 05. Dezember 2025 lädt der Handballkreis Gütersloh wieder alle Schiedsrichterinnen und Schiedsrichter zum zweiten Lehrabend der Saison und zur traditionellen Weihnachtsfeier ein. \nMit 20\,- Euro Eigenbeitrag (der Verein zahlt in den meisten Fällen gesammelt für seine Schiedsrichter) gibt es freies Essen und Trinken den ganzen Abend. \nHier könnt Ihr Euch anmelden: \nhttps://hw.it4sport.de/index.php?phoenix=phoenixbase.seminar.pages.SeminarSinglePage&uID=7362CE3D-611C-40D5-96CC-DFF51F634960 \n  \n 
URL:https://www.handballkreis-guetersloh.de/event/schiedsrichter-weihnachtsfeier-und-2-lehrabend-2-2-2-2-2-2/
LOCATION:Gaststätte Hesse\, Schulstraße 80\, 33397 Rietberg
CATEGORIES:Schiedsrichter
END:VEVENT
BEGIN:VEVENT
DTSTART;TZID=Europe/Berlin:20251101T090000
DTEND;TZID=Europe/Berlin:20251101T130000
DTSTAMP:20260421T145121
CREATED:20250902T184920Z
LAST-MODIFIED:20250902T184920Z
UID:26044-1761987600-1762002000@www.handballkreis-guetersloh.de
SUMMARY:C-Lizenz Fortbildung/Trainer*innenfortbildung
DESCRIPTION:der Handballkreis Gütersloh veranstaltet am 01.11.2025 von 09:00 Uhr bis 13:00 Uhr eine Fortbildungsmaßnahme für die C-Lizenz-Verlängerung. Diese wird mit fünf Stunden für die C-Lizenz-Verlängerung bewertet. Anmeldung erfolgt über Phönix. Link zur Anmeldung \nAusschreibung zum Lehrgang
URL:https://www.handballkreis-guetersloh.de/event/c-lizenz-fortbilung_2025/
LOCATION:441 Hörmann-Sportzentrum\, Am Cronsbach 12\, Steinhagen\, 33803
CATEGORIES:Aus- und Fortbildung,Spielbetrieb,Termine,Vereine
END:VEVENT
BEGIN:VEVENT
DTSTART;TZID=Europe/Berlin:20250912T190000
DTEND;TZID=Europe/Berlin:20250912T220000
DTSTAMP:20260421T145121
CREATED:20250114T181945Z
LAST-MODIFIED:20250114T181945Z
UID:24582-1757703600-1757714400@www.handballkreis-guetersloh.de
SUMMARY:Erster Schiedsrichter-Lehrabend für die Saison 2025/26
DESCRIPTION:Hier geht es zur Anmeldung: \nhttps://hw.it4sport.de/index.php?phoenix=phoenixbase.seminar.pages.SeminarSinglePage&uID=5442E78A-85FB-482A-B9A2-4F1B3C0638F3 \n  \n 
URL:https://www.handballkreis-guetersloh.de/event/erster-schiedsrichter-lehrabend-fuer-die-saison-2021-22-2-2-2-2/
LOCATION:Gütersloher Brauhaus
CATEGORIES:Schiedsrichter
END:VEVENT
BEGIN:VEVENT
DTSTART;TZID=Europe/Berlin:20250830T130000
DTEND;TZID=Europe/Berlin:20250830T150000
DTSTAMP:20260421T145121
CREATED:20250724T131256Z
LAST-MODIFIED:20250724T131256Z
UID:25713-1756558800-1756566000@www.handballkreis-guetersloh.de
SUMMARY:Freundschaftsspiel Damen: TV Verl gegen HSG Rietberg/Mastholte
DESCRIPTION:
URL:https://www.handballkreis-guetersloh.de/event/tv-verl-4/
LOCATION:415 Sporthalle 1 Verl\, St. Anna-Straße\, Verl\, 33415
CATEGORIES:Frauen,Spiele-Turniere,Termine
END:VEVENT
BEGIN:VEVENT
DTSTART;TZID=Europe/Berlin:20250830T110000
DTEND;TZID=Europe/Berlin:20250830T123000
DTSTAMP:20260421T145121
CREATED:20250724T131751Z
LAST-MODIFIED:20250724T131835Z
UID:25718-1756551600-1756557000@www.handballkreis-guetersloh.de
SUMMARY:Freundschaftsspiel weibl. Jugend: weibl. A TV Verl gegen 1. Damen TSG Altenhagen-Heepen
DESCRIPTION:
URL:https://www.handballkreis-guetersloh.de/event/tv-verl-5/
LOCATION:415 Sporthalle 1 Verl\, St. Anna-Straße\, Verl\, 33415
CATEGORIES:Spiele-Turniere,Termine,weibl. Jugend
END:VEVENT
BEGIN:VEVENT
DTSTART;TZID=Europe/Berlin:20250827T200000
DTEND;TZID=Europe/Berlin:20250827T220000
DTSTAMP:20260421T145121
CREATED:20250724T131141Z
LAST-MODIFIED:20250724T131141Z
UID:25710-1756324800-1756332000@www.handballkreis-guetersloh.de
SUMMARY:Freundschaftsspiel Damen: TV Verl gegen TSG Harsewinkel
DESCRIPTION:
URL:https://www.handballkreis-guetersloh.de/event/tv-verl-3/
LOCATION:415 Sporthalle 1 Verl\, St. Anna-Straße\, Verl\, 33415
CATEGORIES:Frauen,Spiele-Turniere,Termine
END:VEVENT
BEGIN:VEVENT
DTSTART;TZID=Europe/Berlin:20250827T200000
DTEND;TZID=Europe/Berlin:20250827T213000
DTSTAMP:20260421T145121
CREATED:20250824T160518Z
LAST-MODIFIED:20250824T160518Z
UID:25975-1756324800-1756330200@www.handballkreis-guetersloh.de
SUMMARY:Freundschaftsspiel Frauen: SG Neuenkirchen/Varensell gegen Wiedenbrücker TV
DESCRIPTION:
URL:https://www.handballkreis-guetersloh.de/event/104008-3/
LOCATION:444 Sporthalle Hauptschule Neuenkirchen\, Lange Straße 169\, Rietberg\, 33397
CATEGORIES:Frauen,Spiele-Turniere,Vereine
END:VEVENT
BEGIN:VEVENT
DTSTART;TZID=Europe/Berlin:20250826T201500
DTEND;TZID=Europe/Berlin:20250826T220000
DTSTAMP:20260421T145121
CREATED:20250821T102110Z
LAST-MODIFIED:20250821T102110Z
UID:25929-1756239300-1756245600@www.handballkreis-guetersloh.de
SUMMARY:Freundschaftsspiel Damen: TV Verl 2 gegen Union 92 Halle
DESCRIPTION:
URL:https://www.handballkreis-guetersloh.de/event/104033-3/
LOCATION:443 Sporthalle 3 Verl
CATEGORIES:Frauen,Spiele-Turniere,Termine
END:VEVENT
BEGIN:VEVENT
DTSTART;TZID=Europe/Berlin:20250825T190000
DTEND;TZID=Europe/Berlin:20250825T201500
DTSTAMP:20260421T145121
CREATED:20250821T103234Z
LAST-MODIFIED:20250821T103234Z
UID:25939-1756148400-1756152900@www.handballkreis-guetersloh.de
SUMMARY:Freundschaftsspiel weibl. B-Jugend: Wiedenbrücker TV gegen SG Neuenkirchen/Varensell
DESCRIPTION:
URL:https://www.handballkreis-guetersloh.de/event/104036-3/
LOCATION:427 Mehrzweckhalle Wiedenbrück\, Burgweg\, 33378 Rheda-Wiedenbrück
CATEGORIES:Spiele-Turniere,Termine,weibl. Jugend
END:VEVENT
BEGIN:VEVENT
DTSTART;TZID=Europe/Berlin:20250824T170000
DTEND;TZID=Europe/Berlin:20250824T190000
DTSTAMP:20260421T145121
CREATED:20250625T193622Z
LAST-MODIFIED:20250625T193622Z
UID:25412-1756054800-1756062000@www.handballkreis-guetersloh.de
SUMMARY:Freundschaftsspiel Männer: SV Spexard 1950 1 gegen TSVE Bielefeld 1
DESCRIPTION:
URL:https://www.handballkreis-guetersloh.de/event/freundschaftsspiel-maenner-spexard-3/
LOCATION:464 Sporthalle Spexard\, Bruder-Konrad-Straße 100\, Gütersloh\, 33332
CATEGORIES:Männer,Spiele-Turniere,Vereine
ORGANIZER;CN="SV Spexard 1950 e.V.":MAILTO:handballvorstand@svspexard.de
END:VEVENT
BEGIN:VEVENT
DTSTART;TZID=Europe/Berlin:20250824T163000
DTEND;TZID=Europe/Berlin:20250824T193000
DTSTAMP:20260421T145121
CREATED:20250625T192535Z
LAST-MODIFIED:20250625T192535Z
UID:25401-1756053000-1756063800@www.handballkreis-guetersloh.de
SUMMARY:Freundschaftsspiel Männer: TG Hörste 2 gegen Spradow
DESCRIPTION:
URL:https://www.handballkreis-guetersloh.de/event/freundschaftsspiel-maenner-tg-hoerste-5/
LOCATION:434 Sporthalle Masch Halle I\, Wasserwerkstr. 1\, Halle (Westf.)\, 33790\, Deutschland
CATEGORIES:Männer,Spiele-Turniere,Vereine
END:VEVENT
BEGIN:VEVENT
DTSTART;TZID=Europe/Berlin:20250824T153000
DTEND;TZID=Europe/Berlin:20250824T173000
DTSTAMP:20260421T145121
CREATED:20250823T133654Z
LAST-MODIFIED:20250823T133654Z
UID:25959-1756049400-1756056600@www.handballkreis-guetersloh.de
SUMMARY:Freundschaftsspiel Männer: HSG Rietberg-Mastholte  gegen TV Beckum
DESCRIPTION:
URL:https://www.handballkreis-guetersloh.de/event/104041-2-2/
LOCATION:426 Sporthalle Mastholte\, Rietberger Str. 82\, Rietberg\, 33397
CATEGORIES:Männer,Spiele-Turniere,Termine
END:VEVENT
BEGIN:VEVENT
DTSTART;TZID=Europe/Berlin:20250824T144500
DTEND;TZID=Europe/Berlin:20250824T163000
DTSTAMP:20260421T145121
CREATED:20250821T105231Z
LAST-MODIFIED:20250821T105231Z
UID:25950-1756046700-1756053000@www.handballkreis-guetersloh.de
SUMMARY:Freundschaftsspiel weibl. C-Jugend: TV Verl gegen JSG Hesselteich Loxten
DESCRIPTION:
URL:https://www.handballkreis-guetersloh.de/event/tv-verl-9-2/
LOCATION:415 Sporthalle 1 Verl\, St. Anna-Straße\, Verl\, 33415
CATEGORIES:Spiele-Turniere,Termine,weibl. Jugend
END:VEVENT
BEGIN:VEVENT
DTSTART;TZID=Europe/Berlin:20250824T130000
DTEND;TZID=Europe/Berlin:20250824T160000
DTSTAMP:20260421T145121
CREATED:20250821T101850Z
LAST-MODIFIED:20250821T101850Z
UID:25927-1756040400-1756051200@www.handballkreis-guetersloh.de
SUMMARY:Turnier Damen: TV Verl
DESCRIPTION:
URL:https://www.handballkreis-guetersloh.de/event/104033-2-2/
LOCATION:443 Sporthalle 3 Verl
CATEGORIES:Frauen,Spiele-Turniere,Termine
END:VEVENT
BEGIN:VEVENT
DTSTART;TZID=Europe/Berlin:20250824T110000
DTEND;TZID=Europe/Berlin:20250824T123000
DTSTAMP:20260421T145121
CREATED:20250821T100223Z
LAST-MODIFIED:20250821T101224Z
UID:25917-1756033200-1756038600@www.handballkreis-guetersloh.de
SUMMARY:Freundschaftsspiel männl. C-Jugend: TG Hörste gegen TUS 97 Bielefeld/Jöllenbeck 2
DESCRIPTION:
URL:https://www.handballkreis-guetersloh.de/event/104024-2-2/
LOCATION:434 Sporthalle Masch Halle I\, Wasserwerkstr. 1\, Halle (Westf.)\, 33790\, Deutschland
CATEGORIES:männl. Jugend,Spiele-Turniere,Vereine
END:VEVENT
BEGIN:VEVENT
DTSTART;TZID=Europe/Berlin:20250823T193000
DTEND;TZID=Europe/Berlin:20250823T210000
DTSTAMP:20260421T145121
CREATED:20250821T103709Z
LAST-MODIFIED:20250821T103842Z
UID:25944-1755977400-1755982800@www.handballkreis-guetersloh.de
SUMMARY:Freundschaftsspiel Männer: Spvg. Versmold gegen Charity-Spiel Handball All-Stars
DESCRIPTION:
URL:https://www.handballkreis-guetersloh.de/event/104034/
LOCATION:428 Sporthalle Hauptschule Versmold\, Schulstraße 14\,  Versmold\, 33775\, Deutschland
CATEGORIES:Männer,Spiele-Turniere,Vereine
ORGANIZER;CN="Spvg Versmold":MAILTO:karsten_tappmeier@web.de
END:VEVENT
BEGIN:VEVENT
DTSTART;TZID=Europe/Berlin:20250823T180000
DTEND;TZID=Europe/Berlin:20250823T200000
DTSTAMP:20260421T145121
CREATED:20250724T124408Z
LAST-MODIFIED:20250724T124408Z
UID:25673-1755972000-1755979200@www.handballkreis-guetersloh.de
SUMMARY:Freundschaftsspiel Männer: SpVg Steinhagen gegen Oerlinghausen
DESCRIPTION:
URL:https://www.handballkreis-guetersloh.de/event/spvg-steinhagen-5/
LOCATION:441 Hörmann-Sportzentrum\, Am Cronsbach 12\, Steinhagen\, 33803
CATEGORIES:Männer,Spiele-Turniere,Vereine
ORGANIZER;CN="Spvg Steinhagen":MAILTO:handball-steinhagen@web.de
END:VEVENT
BEGIN:VEVENT
DTSTART;TZID=Europe/Berlin:20250823T150000
DTEND;TZID=Europe/Berlin:20250823T163000
DTSTAMP:20260421T145121
CREATED:20250708T141013Z
LAST-MODIFIED:20250708T141013Z
UID:25445-1755961200-1755966600@www.handballkreis-guetersloh.de
SUMMARY:Freundschaftsspiel Damen: SpVg Steinhagen 1 gegen Spvg. Hesselteich
DESCRIPTION:
URL:https://www.handballkreis-guetersloh.de/event/freundschaftsspiel-damen-spvg-steinhagen-iii-gegen-schloss-neuhaus-2/
LOCATION:441 Hörmann-Sportzentrum\, Am Cronsbach 12\, Steinhagen\, 33803
CATEGORIES:Frauen,Spiele-Turniere,Vereine
ORGANIZER;CN="Spvg Steinhagen":MAILTO:handball-steinhagen@web.de
END:VEVENT
BEGIN:VEVENT
DTSTART;TZID=Europe/Berlin:20250823T130000
DTEND;TZID=Europe/Berlin:20250823T143000
DTSTAMP:20260421T145121
CREATED:20250708T143337Z
LAST-MODIFIED:20250708T143425Z
UID:25465-1755954000-1755959400@www.handballkreis-guetersloh.de
SUMMARY:Freundschaftsspiel Damen: SpVg Steinhagen 2 gegen TG Hörste 2
DESCRIPTION:
URL:https://www.handballkreis-guetersloh.de/event/freundschaftsspiel-damen-spvg-steinhagen-9/
LOCATION:441 Hörmann-Sportzentrum\, Am Cronsbach 12\, Steinhagen\, 33803
CATEGORIES:Frauen,Spiele-Turniere,Vereine
ORGANIZER;CN="Spvg Steinhagen":MAILTO:handball-steinhagen@web.de
END:VEVENT
BEGIN:VEVENT
DTSTART;TZID=Europe/Berlin:20250823T110000
DTEND;TZID=Europe/Berlin:20250824T180000
DTSTAMP:20260421T145121
CREATED:20250821T104044Z
LAST-MODIFIED:20250821T104217Z
UID:25946-1755946800-1756058400@www.handballkreis-guetersloh.de
SUMMARY:Turnier HSG Werther/Borgholzhausen: Wertheraner Handballtage
DESCRIPTION:23.08.2025 \n11:30    wC2 – Wellingholzhausen \n13:30    mC – EGB Bielefeld \n15:00    wC1 – JSG Steinhagen-Brockhagen \n16:30    mB – JSG Steinhagen-Brockhagen \n24.08.2025 \n12:00    1.Damen – TG Herford \n14:00    1.Herren – TSG Harsewinkel \n15:00    TSG Harsewinkel – TuS Brockhagen \n16:00    1.Herren – TuS Brockhagen
URL:https://www.handballkreis-guetersloh.de/event/104034-2/
LOCATION:429 Sporthalle Gesamtschule Werther\, Weststraße\, 33824 Werther
CATEGORIES:Frauen,Männer,männl. Jugend,Spiele-Turniere,Vereine,weibl. Jugend
ORGANIZER;CN="HSG Werther/Borgholzhausen":MAILTO:k.wilhelm@hsg-webo.de
END:VEVENT
BEGIN:VEVENT
DTSTART;TZID=Europe/Berlin:20250822T203000
DTEND;TZID=Europe/Berlin:20250822T220000
DTSTAMP:20260421T145121
CREATED:20250724T132402Z
LAST-MODIFIED:20250724T132402Z
UID:25729-1755894600-1755900000@www.handballkreis-guetersloh.de
SUMMARY:Freundschaftsspiel Damen: TV Verl 2 gegen TSV Oerlinghausen 1
DESCRIPTION:
URL:https://www.handballkreis-guetersloh.de/event/tv-verl-9/
LOCATION:415 Sporthalle 1 Verl\, St. Anna-Straße\, Verl\, 33415
CATEGORIES:Frauen,Spiele-Turniere,Termine
END:VEVENT
BEGIN:VEVENT
DTSTART;TZID=Europe/Berlin:20250822T203000
DTEND;TZID=Europe/Berlin:20250822T214500
DTSTAMP:20260421T145121
CREATED:20250821T101324Z
LAST-MODIFIED:20250821T101324Z
UID:25921-1755894600-1755899100@www.handballkreis-guetersloh.de
SUMMARY:Freundschaftsspiel Männer: SC Lippstadt DJK gegen Hamm-Heessen
DESCRIPTION:
URL:https://www.handballkreis-guetersloh.de/event/104024-2/
LOCATION:406 Sporthalle der Edith-Stein-Realschule\, Dusternweg 18\, Lippstadt\, 59557
CATEGORIES:Männer,Spiele-Turniere,Vereine
ORGANIZER;CN="SC Lippstadt DJK":MAILTO:info@scl-handball.de
END:VEVENT
BEGIN:VEVENT
DTSTART;TZID=Europe/Berlin:20250822T190000
DTEND;TZID=Europe/Berlin:20250822T220000
DTSTAMP:20260421T145121
CREATED:20250724T125249Z
LAST-MODIFIED:20250724T125617Z
UID:25688-1755889200-1755900000@www.handballkreis-guetersloh.de
SUMMARY:Freundschaftsspiel Männer: TG Hörste gegen TuS Spenge 2
DESCRIPTION:
URL:https://www.handballkreis-guetersloh.de/event/tg-hoerste-6/
LOCATION:434 Sporthalle Masch Halle I\, Wasserwerkstr. 1\, Halle (Westf.)\, 33790\, Deutschland
CATEGORIES:Männer,Spiele-Turniere,Vereine
END:VEVENT
END:VCALENDAR