BEGIN:VCALENDAR
VERSION:2.0
PRODID:-//Handballkreis Gütersloh e.V. - ECPv6.15.20//NONSGML v1.0//EN
CALSCALE:GREGORIAN
METHOD:PUBLISH
X-ORIGINAL-URL:https://www.handballkreis-guetersloh.de
X-WR-CALDESC:Veranstaltungen für Handballkreis Gütersloh e.V.
REFRESH-INTERVAL;VALUE=DURATION:PT1H
X-Robots-Tag:noindex
X-PUBLISHED-TTL:PT1H
BEGIN:VTIMEZONE
TZID:Europe/Berlin
BEGIN:DAYLIGHT
TZOFFSETFROM:+0100
TZOFFSETTO:+0200
TZNAME:CEST
DTSTART:20250330T010000
END:DAYLIGHT
BEGIN:STANDARD
TZOFFSETFROM:+0200
TZOFFSETTO:+0100
TZNAME:CET
DTSTART:20251026T010000
END:STANDARD
BEGIN:DAYLIGHT
TZOFFSETFROM:+0100
TZOFFSETTO:+0200
TZNAME:CEST
DTSTART:20260329T010000
END:DAYLIGHT
BEGIN:STANDARD
TZOFFSETFROM:+0200
TZOFFSETTO:+0100
TZNAME:CET
DTSTART:20261025T010000
END:STANDARD
BEGIN:DAYLIGHT
TZOFFSETFROM:+0100
TZOFFSETTO:+0200
TZNAME:CEST
DTSTART:20270328T010000
END:DAYLIGHT
BEGIN:STANDARD
TZOFFSETFROM:+0200
TZOFFSETTO:+0100
TZNAME:CET
DTSTART:20271031T010000
END:STANDARD
END:VTIMEZONE
BEGIN:VEVENT
DTSTART;TZID=Europe/Berlin:20260509T160000
DTEND;TZID=Europe/Berlin:20260509T180000
DTSTAMP:20260421T162759
CREATED:20260420T164439Z
LAST-MODIFIED:20260420T164634Z
UID:27068-1778342400-1778349600@www.handballkreis-guetersloh.de
SUMMARY:Zeitnehmerinnen und Zeitnehmer zur erstmaligen Erlangung der HVW-ZS Lizenz
DESCRIPTION:Anmeldeschluss: 06.05.2026\n\n\n\n\nAusbildung für den Erwerb der Zeitnehmerlizenz.\n\nBedingung zur Teilnahme: Die Erlangung einer HVW-ZS Lizenz erfordert ein Mindestalter von 16 Jahren zum Zeitpunkt der Anmeldung.\n\nDie Teilnahme wird mit einer Lizenz bestätigt\, die in „H4A-App“ angezeigt wird und zur Tätigkeit als Zeitnehmer und Sekretär am Zeitnehmertisch zugelassen werden.\n\nOnline-Seminar über Zoom\, es erfolgt keine Präsenz-Veranstaltung.\n\n\n  \n\n\n\n\nDownloads : Ausschreibung Zeitnehmerlehrgang
URL:https://www.handballkreis-guetersloh.de/event/lehrgang_zeitnehmer_2025_04-2-2/
LOCATION:– Online-Schulung –
CATEGORIES:Aus- und Fortbildung
END:VEVENT
BEGIN:VEVENT
DTSTART;TZID=Europe/Berlin:20260704T090000
DTEND;TZID=Europe/Berlin:20260704T140000
DTSTAMP:20260421T162759
CREATED:20260116T120559Z
LAST-MODIFIED:20260116T120714Z
UID:26435-1783155600-1783173600@www.handballkreis-guetersloh.de
SUMMARY:C-Lizenz Verlängerung / Trainer*innenfortbildung
DESCRIPTION:Link zum Beitrag
URL:https://www.handballkreis-guetersloh.de/event/c-lizenz-verlaengerung-trainerinnenfortbildung/
LOCATION:415 Sporthalle 1 Verl\, St. Anna-Straße\, Verl\, 33415
CATEGORIES:Aus- und Fortbildung,Termine,Vereine
END:VEVENT
END:VCALENDAR