BEGIN:VCALENDAR
VERSION:2.0
PRODID:-//Handballkreis Gütersloh e.V. - ECPv6.15.20//NONSGML v1.0//EN
CALSCALE:GREGORIAN
METHOD:PUBLISH
X-WR-CALNAME:Handballkreis Gütersloh e.V.
X-ORIGINAL-URL:https://www.handballkreis-guetersloh.de
X-WR-CALDESC:Veranstaltungen für Handballkreis Gütersloh e.V.
REFRESH-INTERVAL;VALUE=DURATION:PT1H
X-Robots-Tag:noindex
X-PUBLISHED-TTL:PT1H
BEGIN:VTIMEZONE
TZID:Europe/Berlin
BEGIN:DAYLIGHT
TZOFFSETFROM:+0100
TZOFFSETTO:+0200
TZNAME:CEST
DTSTART:20250330T010000
END:DAYLIGHT
BEGIN:STANDARD
TZOFFSETFROM:+0200
TZOFFSETTO:+0100
TZNAME:CET
DTSTART:20251026T010000
END:STANDARD
BEGIN:DAYLIGHT
TZOFFSETFROM:+0100
TZOFFSETTO:+0200
TZNAME:CEST
DTSTART:20260329T010000
END:DAYLIGHT
BEGIN:STANDARD
TZOFFSETFROM:+0200
TZOFFSETTO:+0100
TZNAME:CET
DTSTART:20261025T010000
END:STANDARD
BEGIN:DAYLIGHT
TZOFFSETFROM:+0100
TZOFFSETTO:+0200
TZNAME:CEST
DTSTART:20270328T010000
END:DAYLIGHT
BEGIN:STANDARD
TZOFFSETFROM:+0200
TZOFFSETTO:+0100
TZNAME:CET
DTSTART:20271031T010000
END:STANDARD
BEGIN:DAYLIGHT
TZOFFSETFROM:+0100
TZOFFSETTO:+0200
TZNAME:CEST
DTSTART:20280326T010000
END:DAYLIGHT
BEGIN:STANDARD
TZOFFSETFROM:+0200
TZOFFSETTO:+0100
TZNAME:CET
DTSTART:20281029T010000
END:STANDARD
END:VTIMEZONE
BEGIN:VEVENT
DTSTART;TZID=Europe/Berlin:20260424T190000
DTEND;TZID=Europe/Berlin:20260424T210000
DTSTAMP:20260421T132346
CREATED:20260407T201004Z
LAST-MODIFIED:20260407T201004Z
UID:27036-1777057200-1777064400@www.handballkreis-guetersloh.de
SUMMARY:Vernetzungs- und Informationsabend zum Thema „Inklusion im Handballsport“
DESCRIPTION:Anmeldung über Phönix: \nhttps://hw.it4sport.de/seminar/show#detail/D10702AC-1747-4719-8EE6-0C7963DFC449
URL:https://www.handballkreis-guetersloh.de/event/vernetzungs-und-informationsabend-zum-thema-inklusion-im-handballsport/
LOCATION:Vereinsheim des Herzebrocker Sportvereins von 1925 e.V.\, Jahnstraße 3\, Herzebrock\, 33442\, Germany
CATEGORIES:Jugend,Termine,Vereine
END:VEVENT
BEGIN:VEVENT
DTSTART;TZID=Europe/Berlin:20260509T160000
DTEND;TZID=Europe/Berlin:20260509T180000
DTSTAMP:20260421T132346
CREATED:20260420T164439Z
LAST-MODIFIED:20260420T164634Z
UID:27068-1778342400-1778349600@www.handballkreis-guetersloh.de
SUMMARY:Zeitnehmerinnen und Zeitnehmer zur erstmaligen Erlangung der HVW-ZS Lizenz
DESCRIPTION:Anmeldeschluss: 06.05.2026\n\n\n\n\nAusbildung für den Erwerb der Zeitnehmerlizenz.\n\nBedingung zur Teilnahme: Die Erlangung einer HVW-ZS Lizenz erfordert ein Mindestalter von 16 Jahren zum Zeitpunkt der Anmeldung.\n\nDie Teilnahme wird mit einer Lizenz bestätigt\, die in „H4A-App“ angezeigt wird und zur Tätigkeit als Zeitnehmer und Sekretär am Zeitnehmertisch zugelassen werden.\n\nOnline-Seminar über Zoom\, es erfolgt keine Präsenz-Veranstaltung.\n\n\n  \n\n\n\n\nDownloads : Ausschreibung Zeitnehmerlehrgang
URL:https://www.handballkreis-guetersloh.de/event/lehrgang_zeitnehmer_2025_04-2-2/
LOCATION:– Online-Schulung –
CATEGORIES:Aus- und Fortbildung
END:VEVENT
BEGIN:VEVENT
DTSTART;VALUE=DATE:20260627
DTEND;VALUE=DATE:20260629
DTSTAMP:20260421T132346
CREATED:20251119T121133Z
LAST-MODIFIED:20251119T121133Z
UID:26247-1782518400-1782691199@www.handballkreis-guetersloh.de
SUMMARY:Ems-Cup 2026 Wiedenbrücker TV
DESCRIPTION:
URL:https://www.handballkreis-guetersloh.de/event/ems-cup-wd-tv-26/
LOCATION:SPORTZENTRUM BURG WIEDENBRÜCK\, Volmaristraße 12\, Rheda-Wiedenbrück\, 33378\, Germany
CATEGORIES:Frauen,Männer,männl. Jugend,Spiele-Turniere,Vereine,weibl. Jugend
END:VEVENT
BEGIN:VEVENT
DTSTART;TZID=Europe/Berlin:20260704T090000
DTEND;TZID=Europe/Berlin:20260704T140000
DTSTAMP:20260421T132346
CREATED:20260116T120559Z
LAST-MODIFIED:20260116T120714Z
UID:26435-1783155600-1783173600@www.handballkreis-guetersloh.de
SUMMARY:C-Lizenz Verlängerung / Trainer*innenfortbildung
DESCRIPTION:Link zum Beitrag
URL:https://www.handballkreis-guetersloh.de/event/c-lizenz-verlaengerung-trainerinnenfortbildung/
LOCATION:415 Sporthalle 1 Verl\, St. Anna-Straße\, Verl\, 33415
CATEGORIES:Aus- und Fortbildung,Termine,Vereine
END:VEVENT
BEGIN:VEVENT
DTSTART;TZID=Europe/Berlin:20260828T190000
DTEND;TZID=Europe/Berlin:20260828T220000
DTSTAMP:20260421T132346
CREATED:20251230T150337Z
LAST-MODIFIED:20251230T150511Z
UID:26367-1787943600-1787954400@www.handballkreis-guetersloh.de
SUMMARY:Erster Schiedsrichter-Lehrabend für die Saison 2026/27
DESCRIPTION:Hier geht es zur Anmeldung: \nhttps://hw.it4sport.de/seminar/show#detail/58998F58-08DF-41B8-BF42-A87AA0E7763C \n  \n 
URL:https://www.handballkreis-guetersloh.de/event/erster-schiedsrichter-lehrabend-fuer-die-saison-2021-22-2-2-2-2-2/
LOCATION:Gütersloher Brauhaus
CATEGORIES:Schiedsrichter
END:VEVENT
BEGIN:VEVENT
DTSTART;TZID=Europe/Berlin:20261204T190000
DTEND;TZID=Europe/Berlin:20261204T220000
DTSTAMP:20260421T132346
CREATED:20251230T150848Z
LAST-MODIFIED:20251230T150848Z
UID:26371-1796410800-1796421600@www.handballkreis-guetersloh.de
SUMMARY:Schiedsrichter-Weihnachtsfeier und 2. Lehrabend für die Saison 2026/27
DESCRIPTION:Am Freitag\, den 04. Dezember 2026 lädt der Handballkreis Gütersloh wieder alle Schiedsrichterinnen und Schiedsrichter zum zweiten Lehrabend der Saison und zur traditionellen Weihnachtsfeier ein. \nMit 20\,- Euro Eigenbeitrag (der Verein zahlt in den meisten Fällen gesammelt für seine Schiedsrichter) gibt es freies Essen und Trinken den ganzen Abend. \nHier könnt Ihr Euch anmelden: \nhttps://hw.it4sport.de/seminar/show#detail/A73AEA7C-0529-40EF-A4E6-668351E3E208 \n  \n 
URL:https://www.handballkreis-guetersloh.de/event/schiedsrichter-weihnachtsfeier-und-2-lehrabend-2-2-2-2-2-2-2/
LOCATION:Gaststätte Hesse\, Schulstraße 80\, 33397 Rietberg
CATEGORIES:Schiedsrichter
END:VEVENT
BEGIN:VEVENT
DTSTART;TZID=Europe/Berlin:20270305T190000
DTEND;TZID=Europe/Berlin:20270305T220000
DTSTAMP:20260421T132346
CREATED:20260210T225631Z
LAST-MODIFIED:20260210T225631Z
UID:26519-1804273200-1804284000@www.handballkreis-guetersloh.de
SUMMARY:3. Schiedsrichterlehrabend für die Saison 2026/27
DESCRIPTION:Hier könnt Ihr Euch anmelden: \nhttps://hw.it4sport.de/seminar/show#detail/D1CF6287-669C-4CBB-896F-50A8AF44C6EA \n  \n  \n  \n 
URL:https://www.handballkreis-guetersloh.de/event/3-schiedsrichterlehrabend-fuer-die-saison-2021-22-inkl-leistungskaderlehrgang-2-2-2-2-2/
LOCATION:– Online-Schulung –
CATEGORIES:Schiedsrichter
END:VEVENT
END:VCALENDAR